BEGIN:VCALENDAR
VERSION:2.0
PRODID:-//kennedysdisease.org//NONSGML kigkonsult.se iCalcreator 2.30.10//
CALSCALE:GREGORIAN
METHOD:PUBLISH
UID:8e400dbc-1752-4491-90ea-37f4cb2e86d6
X-WR-CALDESC:The KDA board meets monthly to provide oversight\, set strateg
 ic direction\, and ensure the Kennedy's Disease Association achieves its g
 oals and mission.
X-WR-RELCALID:aa3096aac1ddeff7438ba53ae62f9935
X-WR-TIMEZONE:America/New_York
BEGIN:VTIMEZONE
TZID:America/New_York
BEGIN:STANDARD
TZNAME:EST
DTSTART:20251102T020000
TZOFFSETFROM:-0400
TZOFFSETTO:-0500
RDATE:20261101T020000
END:STANDARD
BEGIN:DAYLIGHT
TZNAME:EDT
DTSTART:20260308T020000
TZOFFSETFROM:-0500
TZOFFSETTO:-0400
RDATE:20270314T020000
END:DAYLIGHT
END:VTIMEZONE
BEGIN:VEVENT
UID:ade7c72a-6eee-4fa8-82a1-6fad6fcc6261
DTSTAMP:20260421T025921Z
DESCRIPTION:The KDA board meets monthly to provide oversight\, set strategi
 c direction\, and ensure the Kennedy's Disease Association achieves its go
 als and mission.
DTSTART;TZID=America/New_York:20260409T200000
DTEND;TZID=America/New_York:20260409T220000
LOCATION:
SUMMARY:KDA Board Meeting
END:VEVENT
END:VCALENDAR
