BEGIN:VCALENDAR
VERSION:2.0
PRODID:-//kennedysdisease.org//NONSGML kigkonsult.se iCalcreator 2.30.10//
CALSCALE:GREGORIAN
METHOD:PUBLISH
UID:c2f273d4-2934-4f6d-9b83-ef9329285060
X-WR-CALDESC:The KDA board meets monthly to provide oversight\, set strateg
 ic direction\, and ensure the Kennedy's Disease Association achieves its g
 oals and mission.
X-WR-RELCALID:6d12b6ae88acba74aeb195fdc0cb6b38
X-WR-TIMEZONE:America/New_York
BEGIN:VTIMEZONE
TZID:America/New_York
BEGIN:STANDARD
TZNAME:EST
DTSTART:20251102T020000
TZOFFSETFROM:-0400
TZOFFSETTO:-0500
RDATE:20261101T020000
RDATE:20271107T020000
END:STANDARD
BEGIN:DAYLIGHT
TZNAME:EDT
DTSTART:20260308T020000
TZOFFSETFROM:-0500
TZOFFSETTO:-0400
RDATE:20270314T020000
END:DAYLIGHT
END:VTIMEZONE
BEGIN:VEVENT
UID:ea9b68ba-c094-4e26-b338-3d17c7a90b75
DTSTAMP:20260421T074027Z
DESCRIPTION:The KDA board meets monthly to provide oversight\, set strategi
 c direction\, and ensure the Kennedy's Disease Association achieves its go
 als and mission.
DTSTART;TZID=America/New_York:20260611T200000
DTEND;TZID=America/New_York:20260611T220000
LOCATION:
SUMMARY:KDA Board Meeting
END:VEVENT
END:VCALENDAR
