BEGIN:VCALENDAR
VERSION:2.0
PRODID:-//kennedysdisease.org//NONSGML kigkonsult.se iCalcreator 2.30.10//
CALSCALE:GREGORIAN
METHOD:PUBLISH
UID:89125404-0c13-4085-9e58-112130b5ef44
X-WR-CALDESC:Join us for the upcoming KDA Fundraising & Volunteer Committee
  Meeting - it's an important monthly meeting to connect\, collaborate\, an
 d contribute to our mission of finding a cure for Kennedy’s Disease. Our d
 edicated volunteers gather each month to plan fundraising initiatives\, sh
 are updates\, and explore new ways to support the KDA. Please contact us i
 f you'd like to get involved. Together\, we can make a meaningful differen
 ce.
X-WR-RELCALID:5ff29903febac5503014e2586974d2b1
X-WR-TIMEZONE:America/New_York
BEGIN:VTIMEZONE
TZID:America/New_York
BEGIN:STANDARD
TZNAME:EST
DTSTART:20251102T020000
TZOFFSETFROM:-0400
TZOFFSETTO:-0500
RDATE:20261101T020000
RDATE:20271107T020000
END:STANDARD
BEGIN:DAYLIGHT
TZNAME:EDT
DTSTART:20260308T020000
TZOFFSETFROM:-0500
TZOFFSETTO:-0400
RDATE:20270314T020000
END:DAYLIGHT
END:VTIMEZONE
BEGIN:VEVENT
UID:f69aba17-75e9-4365-b12e-54ec425ebdf1
DTSTAMP:20260423T181507Z
DESCRIPTION:Join us for the upcoming KDA Fundraising & Volunteer Committee 
 Meeting - it's an important monthly meeting to connect\, collaborate\, and
  contribute to our mission of finding a cure for Kennedy’s Disease. Our de
 dicated volunteers gather each month to plan fundraising initiatives\, sha
 re updates\, and explore new ways to support the KDA. Please contact us if
  you'd like to get involved. Together\, we can make a meaningful differenc
 e.
DTSTART;TZID=America/New_York:20260609T150000
DTEND;TZID=America/New_York:20260609T160000
LOCATION:https://kennedysdisease.org/about-us/contact-us.html
SUMMARY:Volunteer & Fundraising Committee Meeting
END:VEVENT
END:VCALENDAR
