BEGIN:VCALENDAR
VERSION:2.0
PRODID:-//kennedysdisease.org//NONSGML kigkonsult.se iCalcreator 2.30.10//
CALSCALE:GREGORIAN
METHOD:PUBLISH
UID:e56ae082-dc28-4a2c-addc-0974fd3f3ae2
X-WR-CALDESC:The KDA board meets monthly to provide oversight\, set strateg
 ic direction\, and ensure the Kennedy's Disease Association achieves its g
 oals and mission.
X-WR-RELCALID:1d64ecf3e188a08075b0d7b05a1c22ad
X-WR-TIMEZONE:America/New_York
BEGIN:VTIMEZONE
TZID:America/New_York
BEGIN:STANDARD
TZNAME:EST
DTSTART:20251102T020000
TZOFFSETFROM:-0400
TZOFFSETTO:-0500
RDATE:20261101T020000
RDATE:20271107T020000
END:STANDARD
BEGIN:DAYLIGHT
TZNAME:EDT
DTSTART:20260308T020000
TZOFFSETFROM:-0500
TZOFFSETTO:-0400
RDATE:20270314T020000
END:DAYLIGHT
END:VTIMEZONE
BEGIN:VEVENT
UID:1da16fdd-4eac-47a5-b3fc-15f7970ea58e
DTSTAMP:20260421T044519Z
DESCRIPTION:The KDA board meets monthly to provide oversight\, set strategi
 c direction\, and ensure the Kennedy's Disease Association achieves its go
 als and mission.
DTSTART;TZID=America/New_York:20260514T200000
DTEND;TZID=America/New_York:20260514T220000
LOCATION:
SUMMARY:KDA Board Meeting
END:VEVENT
END:VCALENDAR
