BEGIN:VCALENDAR
VERSION:2.0
PRODID:-//kennedysdisease.org//NONSGML kigkonsult.se iCalcreator 2.30.10//
CALSCALE:GREGORIAN
METHOD:PUBLISH
UID:76891135-7bef-4c7e-a08a-15509a02078f
X-WR-CALDESC:Registration is officially open for the 2026 International Ken
 nedy's Disease Patient and Scientific Conference. \n\nIt’s two conferences
  in one: two patient-focused days followed by a two-day international SBMA
  research conference. \n\nJoin us for the entire four days to make the mos
 t of opportunities to collaborate and get the latest information from lead
 ing experts across the globe.<p>\n\n</p><h4>Save With Early Bird Registrat
 ion</h4> \nRegister by November 30\, 2025 to receive discounted pricing. V
 isit our conference website for full details\, including registration opti
 ons\, rates\, sponsorships\, and exhibitor opportunities.
X-WR-RELCALID:279cdc0c96c54e936bd12d20a6143870
X-WR-TIMEZONE:America/New_York
BEGIN:VTIMEZONE
TZID:America/New_York
BEGIN:STANDARD
TZNAME:EST
DTSTART:20251102T020000
TZOFFSETFROM:-0400
TZOFFSETTO:-0500
RDATE:20261101T020000
END:STANDARD
BEGIN:DAYLIGHT
TZNAME:EDT
DTSTART:20250309T020000
TZOFFSETFROM:-0500
TZOFFSETTO:-0400
RDATE:20260308T020000
RDATE:20270314T020000
END:DAYLIGHT
END:VTIMEZONE
BEGIN:VEVENT
UID:df473358-e604-4973-8f79-760dcc054c85
DTSTAMP:20260421T044837Z
DESCRIPTION:Registration is officially open for the 2026 International Kenn
 edy's Disease Patient and Scientific Conference. \n\nIt’s two conferences 
 in one: two patient-focused days followed by a two-day international SBMA 
 research conference. \n\nJoin us for the entire four days to make the most
  of opportunities to collaborate and get the latest information from leadi
 ng experts across the globe.<p>\n\n</p><h4>Save With Early Bird Registrati
 on</h4> \nRegister by November 30\, 2025 to receive discounted pricing. Vi
 sit our conference website for full details\, including registration optio
 ns\, rates\, sponsorships\, and exhibitor opportunities.
DTSTART;TZID=America/New_York:20260227T060000
DTEND;TZID=America/New_York:20260302T060001
LOCATION:
SUMMARY:2026 International Patient and Scientific Conference
END:VEVENT
END:VCALENDAR
