BEGIN:VCALENDAR
VERSION:2.0
PRODID:-//kennedysdisease.org//NONSGML kigkonsult.se iCalcreator 2.30.10//
CALSCALE:GREGORIAN
METHOD:PUBLISH
UID:0dc1bbfe-ba88-4f0c-a5c8-a3588e317763
X-WR-CALDESC:The KDA board meets monthly to provide oversight\, set strateg
 ic direction\, and ensure the Kennedy's Disease Association achieves its g
 oals and mission.
X-WR-RELCALID:a5e631c6efba965f766282c6887958e2
X-WR-TIMEZONE:America/New_York
BEGIN:VTIMEZONE
TZID:America/New_York
BEGIN:STANDARD
TZNAME:EST
DTSTART:20251102T020000
TZOFFSETFROM:-0400
TZOFFSETTO:-0500
RDATE:20261101T020000
END:STANDARD
BEGIN:DAYLIGHT
TZNAME:EDT
DTSTART:20250309T020000
TZOFFSETFROM:-0500
TZOFFSETTO:-0400
RDATE:20260308T020000
RDATE:20270314T020000
END:DAYLIGHT
END:VTIMEZONE
BEGIN:VEVENT
UID:c8a594c1-5d90-42fe-8f67-2e2cc2e9245d
DTSTAMP:20260425T105932Z
DESCRIPTION:The KDA board meets monthly to provide oversight\, set strategi
 c direction\, and ensure the Kennedy's Disease Association achieves its go
 als and mission.
DTSTART;TZID=America/New_York:20251113T200000
DTEND;TZID=America/New_York:20251113T220000
LOCATION:
SUMMARY:KDA Board Meeting
END:VEVENT
END:VCALENDAR
