BEGIN:VCALENDAR
VERSION:2.0
PRODID:-//kennedysdisease.org//NONSGML kigkonsult.se iCalcreator 2.30.10//
CALSCALE:GREGORIAN
METHOD:PUBLISH
UID:88722a77-ca68-4de8-a6ef-43cb194774bf
X-WR-CALDESC:The KDA board meets monthly to provide oversight\, set strateg
 ic direction\, and ensure the Kennedy's Disease Association achieves its g
 oals and mission.
X-WR-RELCALID:4ce612fab4faad4450fd6521f4d38cce
X-WR-TIMEZONE:America/New_York
BEGIN:VTIMEZONE
TZID:America/New_York
BEGIN:STANDARD
TZNAME:EST
DTSTART:20241103T020000
TZOFFSETFROM:-0400
TZOFFSETTO:-0500
RDATE:20251102T020000
RDATE:20261101T020000
END:STANDARD
BEGIN:DAYLIGHT
TZNAME:EDT
DTSTART:20250309T020000
TZOFFSETFROM:-0500
TZOFFSETTO:-0400
RDATE:20260308T020000
RDATE:20270314T020000
END:DAYLIGHT
END:VTIMEZONE
BEGIN:VEVENT
UID:8bc8f857-af0e-4077-ba35-a367f96f3d17
DTSTAMP:20260425T123741Z
DESCRIPTION:The KDA board meets monthly to provide oversight\, set strategi
 c direction\, and ensure the Kennedy's Disease Association achieves its go
 als and mission.
DTSTART;TZID=America/New_York:20251009T200000
DTEND;TZID=America/New_York:20251009T220000
LOCATION:
SUMMARY:KDA Board Meeting
END:VEVENT
END:VCALENDAR
