BEGIN:VCALENDAR
VERSION:2.0
PRODID:-//kennedysdisease.org//NONSGML kigkonsult.se iCalcreator 2.30.10//
CALSCALE:GREGORIAN
METHOD:PUBLISH
UID:7a724bba-87ee-4e3b-8c98-2101a5db3106
X-WR-CALDESC:Join us for the upcoming KDA Fundraising & Volunteer Committee
  Meeting - it's an important monthly meeting to connect\, collaborate\, an
 d contribute to our mission of finding a cure for Kennedy’s Disease. Our d
 edicated volunteers gather each month to plan fundraising initiatives\, sh
 are updates\, and explore new ways to support the KDA. Please contact us i
 f you'd like to get involved. Together\, we can make a meaningful differen
 ce.
X-WR-RELCALID:63e94a57e0e9ab7a9a95fe681725e923
X-WR-TIMEZONE:America/New_York
BEGIN:VTIMEZONE
TZID:America/New_York
BEGIN:STANDARD
TZNAME:EST
DTSTART:20251102T020000
TZOFFSETFROM:-0400
TZOFFSETTO:-0500
RDATE:20261101T020000
END:STANDARD
BEGIN:DAYLIGHT
TZNAME:EDT
DTSTART:20250309T020000
TZOFFSETFROM:-0500
TZOFFSETTO:-0400
RDATE:20260308T020000
RDATE:20270314T020000
END:DAYLIGHT
END:VTIMEZONE
BEGIN:VEVENT
UID:712cffbe-5785-4683-8252-3b95b1447d5b
DTSTAMP:20260421T035741Z
DESCRIPTION:Join us for the upcoming KDA Fundraising & Volunteer Committee 
 Meeting - it's an important monthly meeting to connect\, collaborate\, and
  contribute to our mission of finding a cure for Kennedy’s Disease. Our de
 dicated volunteers gather each month to plan fundraising initiatives\, sha
 re updates\, and explore new ways to support the KDA. Please contact us if
  you'd like to get involved. Together\, we can make a meaningful differenc
 e.
DTSTART;TZID=America/New_York:20251118T093000
DTEND;TZID=America/New_York:20251118T103000
LOCATION:https://kennedysdisease.org/about-us/contact-us.html
SUMMARY:Volunteer & Fundraising Committee Meeting
END:VEVENT
END:VCALENDAR
