BEGIN:VCALENDAR
VERSION:2.0
PRODID:-//kennedysdisease.org//NONSGML kigkonsult.se iCalcreator 2.30.10//
CALSCALE:GREGORIAN
METHOD:PUBLISH
UID:22b95d6e-090e-4a0f-9356-45c9a3657a12
X-WR-CALDESC:At the Kennedy's Disease Association (KDA)\, our members are a
 t the heart of everything we do. That’s why we’re inviting you to a specia
 l Virtual Meeting with the Board of Directors—a time for open conversation
 \, collaboration\, and shared ideas.\n \nThis meeting is more than just a 
 chance to connect\; it’s an opportunity for you to share how the board can
  better support you and for us to explore how\, together\, we can further 
 the mission of KDA. \n\nWe truly value your experiences\, insights\, and i
 deas\, and we want this to be a two-way conversation\, a partnership where
  we listen\, learn\, and grow as a community.\n\nPlease <a href='https://k
 ennedysdisease.org/about-us/contact-us.html'>contact us</a> to attend the 
 meeting.\n \n<b>Meeting Details:</b>\n\n📅Date: October 18\, 2025\n🕒Time: 1
 1:00am EST\n📍Location: Online (Meeting link will be provided upon RSVP)\n 
 \nMore information to follow as the date gets closer.\n
X-WR-RELCALID:7b06474ba6c369e3e70a3d5b4428deca
X-WR-TIMEZONE:America/Denver
BEGIN:VTIMEZONE
TZID:America/Denver
BEGIN:STANDARD
TZNAME:MST
DTSTART:20241103T020000
TZOFFSETFROM:-0600
TZOFFSETTO:-0700
RDATE:20251102T020000
RDATE:20261101T020000
END:STANDARD
BEGIN:DAYLIGHT
TZNAME:MDT
DTSTART:20250309T020000
TZOFFSETFROM:-0700
TZOFFSETTO:-0600
RDATE:20260308T020000
RDATE:20270314T020000
END:DAYLIGHT
END:VTIMEZONE
BEGIN:VEVENT
UID:7675721e-8ed7-4bb8-bdef-a5b88cabea6c
DTSTAMP:20260421T035623Z
DESCRIPTION:At the Kennedy's Disease Association (KDA)\, our members are at
  the heart of everything we do. That’s why we’re inviting you to a special
  Virtual Meeting with the Board of Directors—a time for open conversation\
 , collaboration\, and shared ideas.\n \nThis meeting is more than just a c
 hance to connect\; it’s an opportunity for you to share how the board can 
 better support you and for us to explore how\, together\, we can further t
 he mission of KDA. \n\nWe truly value your experiences\, insights\, and id
 eas\, and we want this to be a two-way conversation\, a partnership where 
 we listen\, learn\, and grow as a community.\n\nPlease <a href='https://ke
 nnedysdisease.org/about-us/contact-us.html'>contact us</a> to attend the m
 eeting.\n \n<b>Meeting Details:</b>\n\n📅Date: October 18\, 2025\n🕒Time: 11
 :00am EST\n📍Location: Online (Meeting link will be provided upon RSVP)\n 
 \nMore information to follow as the date gets closer.\n
DTSTART;TZID=America/Denver:20251018T110000
DTEND;TZID=America/Denver:20251018T120000
LOCATION:https://kennedysdisease.org/about-us/contact-us.html
SUMMARY:Virtual Meeting with the Board of Directors
END:VEVENT
END:VCALENDAR
